BEGIN:VCALENDAR
VERSION:2.0
PRODID:-//wp-events-plugin.com//7.2.3.1//EN
TZID:America/Toronto
X-WR-TIMEZONE:America/Toronto
BEGIN:VEVENT
UID:15@rdsgim.ca
DTSTART;TZID=America/Toronto:20230615T000000
DTEND;TZID=America/Toronto:20230615T000000
DTSTAMP:20230201T204350Z
URL:https://rdsgim.ca/evenement/aga-pole-deconomie-sociale-gim/
SUMMARY:AGA - Pôle d'économie sociale GIM
DESCRIPTION:Pour plus d'information : Noemie Bernier\, directrice général
 e : direction@polegim.net
ATTACH;FMTTYPE=image/jpeg:https://rdsgim.ca/wp-content/uploads/2023/02/log
 o.png
END:VEVENT
BEGIN:VTIMEZONE
TZID:America/Toronto
X-LIC-LOCATION:America/Toronto
BEGIN:DAYLIGHT
DTSTART:20230312T030000
TZOFFSETFROM:-0500
TZOFFSETTO:-0400
TZNAME:EDT
END:DAYLIGHT
END:VTIMEZONE
END:VCALENDAR