BEGIN:VCALENDAR
VERSION:2.0
PRODID:-//wp-events-plugin.com//7.2.3.1//EN
TZID:America/Toronto
X-WR-TIMEZONE:America/Toronto
BEGIN:VEVENT
UID:27@rdsgim.ca
DTSTART;TZID=America/Toronto:20230928T083000
DTEND;TZID=America/Toronto:20230928T120000
DTSTAMP:20230906T204621Z
URL:https://rdsgim.ca/evenement/assemblee-des-partenaires-en-ds-mrc-cote-d
 e-gaspe/
SUMMARY:Assemblée des partenaires en DS - MRC Côte-de-Gaspé
DESCRIPTION:Pour s'inscrire : https://docs.google.com/forms/d/e/1FAIpQLSdKF
 8q4ugKo7foA0Ov65G-CDFxMb1eehjMz4sU5rLbuysPVdQ/viewform \n\nPour informati
 on : Julie Pariseau à julie.pariseau@cotedegaspe.ca
END:VEVENT
BEGIN:VTIMEZONE
TZID:America/Toronto
X-LIC-LOCATION:America/Toronto
BEGIN:DAYLIGHT
DTSTART:20230312T030000
TZOFFSETFROM:-0500
TZOFFSETTO:-0400
TZNAME:EDT
END:DAYLIGHT
END:VTIMEZONE
END:VCALENDAR