BEGIN:VCALENDAR
VERSION:2.0
PRODID:-//wp-events-plugin.com//7.2.3.1//EN
TZID:America/Toronto
X-WR-TIMEZONE:America/Toronto
BEGIN:VEVENT
UID:11@rdsgim.ca
DTSTART;TZID=America/Toronto:20230510T130000
DTEND;TZID=America/Toronto:20230510T160000
DTSTAMP:20230111T202747Z
URL:https://rdsgim.ca/evenement/c-a-du-rds-gim-2/
SUMMARY:C.A. du RDS-GÎM
DESCRIPTION:
ATTACH;FMTTYPE=image/jpeg:https://rdsgim.ca/wp-content/uploads/2022/12/Log
 o-couleurs-RDS.png
END:VEVENT
BEGIN:VTIMEZONE
TZID:America/Toronto
X-LIC-LOCATION:America/Toronto
BEGIN:DAYLIGHT
DTSTART:20230312T030000
TZOFFSETFROM:-0500
TZOFFSETTO:-0400
TZNAME:EDT
END:DAYLIGHT
END:VTIMEZONE
END:VCALENDAR