BEGIN:VCALENDAR
VERSION:2.0
PRODID:-//wp-events-plugin.com//7.2.3.1//EN
TZID:America/Toronto
X-WR-TIMEZONE:America/Toronto
BEGIN:VEVENT
UID:13@rdsgim.ca
DTSTART;TZID=America/Toronto;VALUE=DATE:20230517
DTEND;TZID=America/Toronto;VALUE=DATE:20230519
DTSTAMP:20230111T203032Z
URL:https://rdsgim.ca/evenement/colloque-reseau-quebecois-en-developpement
 -social-rqds/
SUMMARY:Colloque Réseau québécois en développement social (RQDS)
DESCRIPTION:Pour plus d'information : https://rqds.org/ 
ATTACH;FMTTYPE=image/jpeg:https://rdsgim.ca/wp-content/uploads/2017/11/RQD
 S.png
END:VEVENT
BEGIN:VTIMEZONE
TZID:America/Toronto
X-LIC-LOCATION:America/Toronto
BEGIN:DAYLIGHT
DTSTART:20230312T030000
TZOFFSETFROM:-0500
TZOFFSETTO:-0400
TZNAME:EDT
END:DAYLIGHT
END:VTIMEZONE
END:VCALENDAR